BEGIN:VCALENDAR
VERSION:2.0
PRODID:-//CentrePort Ministries International - ECPv6.15.20//NONSGML v1.0//EN
CALSCALE:GREGORIAN
METHOD:PUBLISH
X-WR-CALNAME:CentrePort Ministries International
X-ORIGINAL-URL:https://icentreport.org
X-WR-CALDESC:Events for CentrePort Ministries International
REFRESH-INTERVAL;VALUE=DURATION:PT1H
X-Robots-Tag:noindex
X-PUBLISHED-TTL:PT1H
BEGIN:VTIMEZONE
TZID:Europe/Paris
BEGIN:DAYLIGHT
TZOFFSETFROM:+0100
TZOFFSETTO:+0200
TZNAME:CEST
DTSTART:20210328T010000
END:DAYLIGHT
BEGIN:STANDARD
TZOFFSETFROM:+0200
TZOFFSETTO:+0100
TZNAME:CET
DTSTART:20211031T010000
END:STANDARD
BEGIN:DAYLIGHT
TZOFFSETFROM:+0100
TZOFFSETTO:+0200
TZNAME:CEST
DTSTART:20220327T010000
END:DAYLIGHT
BEGIN:STANDARD
TZOFFSETFROM:+0200
TZOFFSETTO:+0100
TZNAME:CET
DTSTART:20221030T010000
END:STANDARD
BEGIN:DAYLIGHT
TZOFFSETFROM:+0100
TZOFFSETTO:+0200
TZNAME:CEST
DTSTART:20230326T010000
END:DAYLIGHT
BEGIN:STANDARD
TZOFFSETFROM:+0200
TZOFFSETTO:+0100
TZNAME:CET
DTSTART:20231029T010000
END:STANDARD
BEGIN:DAYLIGHT
TZOFFSETFROM:+0100
TZOFFSETTO:+0200
TZNAME:CEST
DTSTART:20240331T010000
END:DAYLIGHT
BEGIN:STANDARD
TZOFFSETFROM:+0200
TZOFFSETTO:+0100
TZNAME:CET
DTSTART:20241027T010000
END:STANDARD
BEGIN:DAYLIGHT
TZOFFSETFROM:+0100
TZOFFSETTO:+0200
TZNAME:CEST
DTSTART:20250330T010000
END:DAYLIGHT
BEGIN:STANDARD
TZOFFSETFROM:+0200
TZOFFSETTO:+0100
TZNAME:CET
DTSTART:20251026T010000
END:STANDARD
BEGIN:DAYLIGHT
TZOFFSETFROM:+0100
TZOFFSETTO:+0200
TZNAME:CEST
DTSTART:20260329T010000
END:DAYLIGHT
BEGIN:STANDARD
TZOFFSETFROM:+0200
TZOFFSETTO:+0100
TZNAME:CET
DTSTART:20261025T010000
END:STANDARD
END:VTIMEZONE
BEGIN:VEVENT
DTSTART;TZID=Europe/Paris:20251205T180000
DTEND;TZID=Europe/Paris:20251206T210000
DTSTAMP:20260421T123652
CREATED:20251015T123020Z
LAST-MODIFIED:20251015T125328Z
UID:3331-1764957600-1765054800@icentreport.org
SUMMARY:THE ADVANCEMENT
DESCRIPTION:Get ready for a powerful time of transformation\, impartation\, and advancement at The Advancement Summit 2025\, a two-day spiritual convocation designed to ignite purpose\, sharpen vision\, and equip believers for greater kingdom impact. \nJoin anointed ministers of God as they bring divine insights and prophetic direction for the next season: \nApostle Ernest Paul\nPastor Robyn Paul\nProphet Babs Adewunmi\nPastor J.T. Bakare\nPastor Akindele Obasoro \nDate: Friday 5th – Saturday 6th December\, 2025 \nTime: \nFriday: 5:00 PM (Opening Session) \nSaturday Morning: 9:00 AM \nSaturday Evening: 6:00 PM \nIt’s not just another meeting\, it’s a divine appointment for spiritual advancement\, strategic empowerment\, and kingdom alignment. \nCome expectant. Come ready to advance! \nREGISTRATION DETAILS: \nclick HERE
URL:https://icentreport.org/event/the-advancement/
CATEGORIES:The Advancement
ATTACH;FMTTYPE=image/jpeg:https://icentreport.org/wp-content/uploads/2025/10/The-Advancement.jpg
END:VEVENT
BEGIN:VEVENT
DTSTART;TZID=Europe/Paris:20240915T090000
DTEND;TZID=Europe/Paris:20240915T120000
DTSTAMP:20260421T123652
CREATED:20240816T101148Z
LAST-MODIFIED:20240908T094742Z
UID:3175-1726390800-1726401600@icentreport.org
SUMMARY:Sunday Service
DESCRIPTION:
URL:https://icentreport.org/event/sunday-service/
LOCATION:Church Auditorium\, 4th Floor\, Rock of Ages Mall\, Utako\, Abuja\, FCT\, 90001\, Nigeria
CATEGORIES:Church Weekly Service
ATTACH;FMTTYPE=image/jpeg:https://icentreport.org/wp-content/uploads/2019/03/DSC_2180-scaled.jpg
END:VEVENT
BEGIN:VEVENT
DTSTART;TZID=Europe/Paris:20240911T180000
DTEND;TZID=Europe/Paris:20240911T193000
DTSTAMP:20260421T123652
CREATED:20240816T101406Z
LAST-MODIFIED:20240908T094806Z
UID:3177-1726077600-1726083000@icentreport.org
SUMMARY:Wednesday Bible Study
DESCRIPTION:
URL:https://icentreport.org/event/wednesday-bible-study/
LOCATION:Church Auditorium\, 4th Floor\, Rock of Ages Mall\, Utako\, Abuja\, FCT\, 90001\, Nigeria
CATEGORIES:Church Weekly Service
ATTACH;FMTTYPE=image/jpeg:https://icentreport.org/wp-content/uploads/2022/09/wtcb1.jpeg
END:VEVENT
BEGIN:VEVENT
DTSTART;TZID=Europe/Paris:20221231T220000
DTEND;TZID=Europe/Paris:20230101T220000
DTSTAMP:20260421T123652
CREATED:20221021T125226Z
LAST-MODIFIED:20221021T125226Z
UID:2885-1672524000-1672610400@icentreport.org
SUMMARY:Terraforming the Year 2023
DESCRIPTION:Crossover Night
URL:https://icentreport.org/event/terraforming-the-year-2023/
LOCATION:Church Auditorium\, 4th Floor\, Rock of Ages Mall\, Utako\, Abuja\, FCT\, 90001\, Nigeria
ATTACH;FMTTYPE=image/jpeg:https://icentreport.org/wp-content/uploads/2022/09/IMG-20210307-WA0051.jpg
END:VEVENT
END:VCALENDAR